BEGIN:VCALENDAR
VERSION:2.0
PRODID:-//The 17th Floor - ECPv6.15.20//NONSGML v1.0//EN
CALSCALE:GREGORIAN
METHOD:PUBLISH
X-WR-CALNAME:The 17th Floor
X-ORIGINAL-URL:https://17thfloor.vip
X-WR-CALDESC:Events for The 17th Floor
REFRESH-INTERVAL;VALUE=DURATION:PT1H
X-Robots-Tag:noindex
X-PUBLISHED-TTL:PT1H
BEGIN:VTIMEZONE
TZID:America/Phoenix
BEGIN:STANDARD
TZOFFSETFROM:-0700
TZOFFSETTO:-0700
TZNAME:MST
DTSTART:20250101T000000
END:STANDARD
END:VTIMEZONE
BEGIN:VEVENT
DTSTART;TZID=America/Phoenix:20260421T073000
DTEND;TZID=America/Phoenix:20260421T084500
DTSTAMP:20260421T035430
CREATED:20250311T193938Z
LAST-MODIFIED:20250430T231300Z
UID:10004978-1776756600-1776761100@17thfloor.vip
SUMMARY:Transformationally Fit
DESCRIPTION:$750 for 1 Month\nMonday – Friday\n\n \nTake your fitness to the next level with our High-Intensity Fitness Program\, designed to deliver real\, measurable results. This program combines intense workouts\, personalized tracking\, and inspirational motivation to help you push past limitations and achieve peak performance. Your journey starts with comprehensive lab work\, providing a clear baseline for your health and progress. With daily weigh-ins and expert support\, you’ll stay accountable and focused every step of the way. Whether your goal is to build strength\, improve endurance\, or completely transform your fitness\, this program is built to help you succeed. Commit to the challenge and unlock your full potential!
URL:https://17thfloor.vip/index.php/event/transformationally-fit/2026-04-21/
LOCATION:17th Floor\, 3800 North Central Avenue\, Penthouse 1700\, Phoenix\, AZ\, 85012\, United States
CATEGORIES:Fitness
ATTACH;FMTTYPE=image/png:https://17thfloor.vip/wp-content/uploads/2025/03/Transformationally-fit-e1741192525658.png
END:VEVENT
END:VCALENDAR